BEGIN:VCALENDAR
VERSION:2.0
PRODID:-//TYPO3/NONSGML News system (news)//EN
CALSCALE:GREGORIAN
METHOD:PUBLISH
BEGIN:VEVENT
UID:news-110007@grosskirchheim.gv.at

DTSTAMP:20260420T103037Z



DTSTART;TZID=Europe/Vienna:20260425T080000
DTEND;TZID=Europe/Vienna:20260425T130000

SUMMARY:Feuerlöscherüberprüfungsaktion
DESCRIPTION:am Parkplatz der FF Großkirchheim

LOCATION:


END:VEVENT
END:VCALENDAR
